BEGIN:VCALENDAR
VERSION:2.0
PRODID:-//Om Tapovan. Ashram - ECPv6.15.18//NONSGML v1.0//EN
CALSCALE:GREGORIAN
METHOD:PUBLISH
X-WR-CALNAME:Om Tapovan. Ashram
X-ORIGINAL-URL:https://omtapovan.org
X-WR-CALDESC:Events for Om Tapovan. Ashram
REFRESH-INTERVAL;VALUE=DURATION:PT1H
X-Robots-Tag:noindex
X-PUBLISHED-TTL:PT1H
BEGIN:VTIMEZONE
TZID:Asia/Kolkata
BEGIN:STANDARD
TZOFFSETFROM:+0530
TZOFFSETTO:+0530
TZNAME:IST
DTSTART:20240101T000000
END:STANDARD
END:VTIMEZONE
BEGIN:VEVENT
DTSTART;TZID=Asia/Kolkata:20251027T170000
DTEND;TZID=Asia/Kolkata:20251101T130000
DTSTAMP:20260420T052900
CREATED:20190305T075338Z
LAST-MODIFIED:20251003T044931Z
UID:518-1761584400-1762002000@omtapovan.org
SUMMARY:Divya Drashti / Midbrain Activation Shibir for Kids
DESCRIPTION:Navratri Sadhna Utsav Online Webinar				\n				\n				\n				\n							\n			\n						\n		\n						\n				\n				\n				\n									Start Date: Thu\, 19 March 2026 5AMEnd Date : Thu\, 26 March 2026 6AM								\n				\n				\n				\n							\n			\n						\n		\n						\n				\n				\n				\n							\n			\n		\n						\n				\n				\n				\n					Book Now
URL:https://omtapovan.org/event/midbrain-activation-shibir-for-kids/
LOCATION:Location\, Om Tapovan Ashram\, Borbhatha(Bet)\, Golden Bridge\, Bharuch\, Gujarat\, 393002\, India
CATEGORIES:Meditation Events
ATTACH;FMTTYPE=image/jpeg:https://omtapovan.org/wp-content/uploads/Divya-Drashti-scaled.jpeg
END:VEVENT
END:VCALENDAR