BEGIN:VCALENDAR
VERSION:2.0
PRODID:-//Om Tapovan. Ashram - ECPv6.15.18//NONSGML v1.0//EN
CALSCALE:GREGORIAN
METHOD:PUBLISH
X-WR-CALNAME:Om Tapovan. Ashram
X-ORIGINAL-URL:https://omtapovan.org
X-WR-CALDESC:Events for Om Tapovan. Ashram
REFRESH-INTERVAL;VALUE=DURATION:PT1H
X-Robots-Tag:noindex
X-PUBLISHED-TTL:PT1H
BEGIN:VTIMEZONE
TZID:Asia/Kolkata
BEGIN:STANDARD
TZOFFSETFROM:+0530
TZOFFSETTO:+0530
TZNAME:IST
DTSTART:20220101T000000
END:STANDARD
END:VTIMEZONE
BEGIN:VEVENT
DTSTART;TZID=Asia/Kolkata:20231105T170000
DTEND;TZID=Asia/Kolkata:20231110T170000
DTSTAMP:20260424T030911
CREATED:20231012T062811Z
LAST-MODIFIED:20240808T165828Z
UID:4358-1699203600-1699635600@omtapovan.org
SUMMARY:Midbrain Activation Shibir - मिडब्रेन एक्टिवेशन शिबिर
DESCRIPTION:Navratri Sadhna Utsav Online Webinar				\n				\n				\n				\n							\n			\n						\n		\n						\n				\n				\n				\n									Start Date: Thu\, 19 March 2026 5AMEnd Date : Thu\, 26 March 2026 6AM								\n				\n				\n				\n							\n			\n						\n		\n						\n				\n				\n				\n							\n			\n		\n						\n				\n				\n				\n					Book Now
URL:https://omtapovan.org/event/midbrain-shibir/
LOCATION:Location\, Om Tapovan Ashram\, Borbhatha(Bet)\, Golden Bridge\, Bharuch\, Gujarat\, 393002\, India
CATEGORIES:Meditation Events
END:VEVENT
END:VCALENDAR